BEGIN:VCALENDAR
VERSION:2.0
PRODID:-//Life Force Breath Works - ECPv6.15.20//NONSGML v1.0//EN
CALSCALE:GREGORIAN
METHOD:PUBLISH
X-ORIGINAL-URL:https://lifeforcebreathworks.com
X-WR-CALDESC:Events for Life Force Breath Works
REFRESH-INTERVAL;VALUE=DURATION:PT1H
X-Robots-Tag:noindex
X-PUBLISHED-TTL:PT1H
BEGIN:VTIMEZONE
TZID:America/Halifax
BEGIN:DAYLIGHT
TZOFFSETFROM:-0400
TZOFFSETTO:-0300
TZNAME:ADT
DTSTART:20240310T060000
END:DAYLIGHT
BEGIN:STANDARD
TZOFFSETFROM:-0300
TZOFFSETTO:-0400
TZNAME:AST
DTSTART:20241103T050000
END:STANDARD
BEGIN:DAYLIGHT
TZOFFSETFROM:-0400
TZOFFSETTO:-0300
TZNAME:ADT
DTSTART:20250309T060000
END:DAYLIGHT
BEGIN:STANDARD
TZOFFSETFROM:-0300
TZOFFSETTO:-0400
TZNAME:AST
DTSTART:20251102T050000
END:STANDARD
BEGIN:DAYLIGHT
TZOFFSETFROM:-0400
TZOFFSETTO:-0300
TZNAME:ADT
DTSTART:20260308T060000
END:DAYLIGHT
BEGIN:STANDARD
TZOFFSETFROM:-0300
TZOFFSETTO:-0400
TZNAME:AST
DTSTART:20261101T050000
END:STANDARD
END:VTIMEZONE
BEGIN:VEVENT
DTSTART;TZID=America/Halifax:20250818T103000
DTEND;TZID=America/Halifax:20250818T123000
DTSTAMP:20260423T044941
CREATED:20250813T083451Z
LAST-MODIFIED:20250813T113811Z
UID:10000003-1755513000-1755520200@lifeforcebreathworks.com
SUMMARY:Super Saturday Sale
DESCRIPTION:Every Saturday join us at The Depot for our weekly Super Sale! All items are slashed in price. Bring the whole family.
URL:https://lifeforcebreathworks.com/event/super-saturday-sale/
LOCATION:The Depot at 100 Liberty Street\, United States
ATTACH;FMTTYPE=image/jpeg:https://lifeforcebreathworks.com/wp-content/uploads/2025/08/GettyImages-1770527363.jpg
END:VEVENT
BEGIN:VEVENT
DTSTART;TZID=America/Halifax:20250817T043000
DTEND;TZID=America/Halifax:20250817T103000
DTSTAMP:20260423T044941
CREATED:20250813T083323Z
LAST-MODIFIED:20250813T113600Z
UID:10000002-1755405000-1755426600@lifeforcebreathworks.com
SUMMARY:Morning Brews & Views
DESCRIPTION:Enjoy free samples of our latest brews while overlooking the beautiful sites of our city. Plenty of iced and hot teas\, plus gourmet coffee drinks to perk up your day. Complimentary biscuits for everyone!
URL:https://lifeforcebreathworks.com/event/morning-brews-views/
LOCATION:The Teapot and Brew Club\, United States
ATTACH;FMTTYPE=image/jpeg:https://lifeforcebreathworks.com/wp-content/uploads/2025/08/GettyImages-2200197194.jpg
END:VEVENT
BEGIN:VEVENT
DTSTART;TZID=America/Halifax:20250815T030000
DTEND;TZID=America/Halifax:20250815T050000
DTSTAMP:20260423T044941
CREATED:20250813T055045Z
LAST-MODIFIED:20250813T113317Z
UID:10000001-1755226800-1755234000@lifeforcebreathworks.com
SUMMARY:Evenings in the Park
DESCRIPTION:We invite you to listen to live bands play beautiful music in the park. Enjoy the sounds of Laureen Davis and the Kings\, and enjoy wine tastings hosted by 5th Ave Wines and Spirits.
URL:https://lifeforcebreathworks.com/event/evenings-in-the-park/
LOCATION:Estuary Park\, United States
ATTACH;FMTTYPE=image/jpeg:https://lifeforcebreathworks.com/wp-content/uploads/2025/08/GettyImages-2161837464.jpg
END:VEVENT
END:VCALENDAR